BEGIN:VCALENDAR
VERSION:2.0
PRODID:-//Plone.org//NONSGML plone.app.event//EN
X-WR-TIMEZONE:Europe/Madrid
BEGIN:VEVENT
SUMMARY:Hora del conte: El Viaje de Zoe
DTSTART;TZID=Europe/Madrid;VALUE=DATE-TIME:20250206T180000
DTEND;TZID=Europe/Madrid;VALUE=DATE-TIME:20250206T190000
DTSTAMP;VALUE=DATE-TIME:20260420T170749Z
UID:7ef804859da185269a2b620bb4a75630
CREATED;VALUE=DATE-TIME:20250206T000000Z
CATEGORIES:Infantils
LOCATION:Sala d'Actes de la Biblioteca - C. Bonaire, 3
ORGANIZER:Biblioteca - Regidoria de Cultura
DESCRIPTION:a càrrec de Belén López, autora  i Anna Gimènez, editora. Activitat recomanada per a infants a partir de 4 anys
URL:https://arenysdemar.cat/document.php?id=47238
END:VEVENT
END:VCALENDAR