BEGIN:VCALENDAR
VERSION:2.0
PRODID:-//Plone.org//NONSGML plone.app.event//EN
X-WR-TIMEZONE:Europe/Madrid
BEGIN:VEVENT
SUMMARY:Romans contemporains en Français: Le rire des déesses d'Ananda Devi
DTSTART;TZID=Europe/Madrid;VALUE=DATE-TIME:20250218T160000
DTEND;TZID=Europe/Madrid;VALUE=DATE-TIME:20250218T170000
DTSTAMP;VALUE=DATE-TIME:20260424T061026Z
UID:fd6fdd82638c91e1198f51b98eb41162
CREATED;VALUE=DATE-TIME:20250218T000000Z
CATEGORIES:Literatura
LOCATION:Sala d'Actes de la Biblioteca - C. Bonaire, 3
ORGANIZER:Biblioteca - Regidoria de Cultura
DESCRIPTION:a càrrec de Carme Porcel
URL:https://arenysdemar.cat/document.php?id=47241
END:VEVENT
END:VCALENDAR