BEGIN:VCALENDAR
VERSION:2.0
PRODID:-//Plone.org//NONSGML plone.app.event//EN
X-WR-TIMEZONE:Europe/Madrid
BEGIN:VEVENT
SUMMARY:Converses a la carta en francès: Un brin de causette
DTSTART;TZID=Europe/Madrid;VALUE=DATE-TIME:20250211T163000
DTEND;TZID=Europe/Madrid;VALUE=DATE-TIME:20250211T173000
DTSTAMP;VALUE=DATE-TIME:20260423T151036Z
UID:0cabd8825788abc6a1e74ef740327c18
CREATED;VALUE=DATE-TIME:20250211T000000Z
CATEGORIES:Cursos
LOCATION:Sala d'Actes de la Biblioteca - C. Bonaire, 3
ORGANIZER:Biblioteca - Regidoria de Cultura
DESCRIPTION:a càrrec de Carme Porcel
URL:https://arenysdemar.cat/document.php?id=47243
END:VEVENT
END:VCALENDAR