BEGIN:VCALENDAR
VERSION:2.0
PRODID:-//Plone.org//NONSGML plone.app.event//EN
X-WR-TIMEZONE:Europe/Madrid
BEGIN:VEVENT
SUMMARY:Inici de l'Escudella de recapte
DTSTART;TZID=Europe/Madrid;VALUE=DATE-TIME:20250304T100000
DTEND;TZID=Europe/Madrid;VALUE=DATE-TIME:20250304T110000
DTSTAMP;VALUE=DATE-TIME:20260425T051856Z
UID:40ff06f0d14c50bdb010252173cec188
CREATED;VALUE=DATE-TIME:20250304T000000Z
CATEGORIES:Festa
LOCATION:Riera, davant del C.C. Calisay
ORGANIZER:AEIG Flos i Calcat i Regidoria de Festes
DESCRIPTION:Porteu pasta, verdura, porc, gallina, mandonguilles, llegums... tot és benvingut!
URL:https://arenysdemar.cat/document.php?id=47247
END:VEVENT
END:VCALENDAR