BEGIN:VCALENDAR
VERSION:2.0
PRODID:-//Plone.org//NONSGML plone.app.event//EN
X-WR-TIMEZONE:Europe/Madrid
BEGIN:VEVENT
SUMMARY:Celebrem el Dijous Llarder
DTSTART;TZID=Europe/Madrid;VALUE=DATE-TIME:20250227T180000
DTEND;TZID=Europe/Madrid;VALUE=DATE-TIME:20250227T190000
DTSTAMP;VALUE=DATE-TIME:20260425T142252Z
UID:803d3442342162ae0908d783abcbe224
CREATED;VALUE=DATE-TIME:20250227T000000Z
CATEGORIES:Festa
LOCATION:Carrer Doedes, 23
ORGANIZER:Vocalia de Jubilats
COMMENT:Preu: Socis 10&euro; i no socis 15&euro;
Durada: dues hores aproximadament
URL:https://arenysdemar.cat/document.php?id=47249
END:VEVENT
END:VCALENDAR