BEGIN:VCALENDAR
VERSION:2.0
PRODID:-//Plone.org//NONSGML plone.app.event//EN
X-WR-TIMEZONE:Europe/Madrid
BEGIN:VEVENT
SUMMARY:Del Blues...al Jazz...passant pel Pop
DTSTART;TZID=Europe/Madrid;VALUE=DATE-TIME:20250518T190000
DTEND;TZID=Europe/Madrid;VALUE=DATE-TIME:20250518T200000
DTSTAMP;VALUE=DATE-TIME:20260426T013219Z
UID:f6d88916246f30642154794c98a0bdce
CREATED;VALUE=DATE-TIME:20250518T000000Z
CATEGORIES:Música
LOCATION:Teatre Principal - C. Església, 45-47
ORGANIZER:Societat Coral l'Esperança, Escola de Música i Regidoria de Cultura
COMMENT:Preu: 10&euro; anticipat i 12&euro; taquilla
DESCRIPTION:amb el Combo de l'Escola de Música
URL:https://arenysdemar.cat/document.php?id=47272
END:VEVENT
END:VCALENDAR