BEGIN:VCALENDAR
VERSION:2.0
PRODID:-//Plone.org//NONSGML plone.app.event//EN
X-WR-TIMEZONE:Europe/Madrid
BEGIN:VEVENT
SUMMARY:O2
DTSTART;TZID=Europe/Madrid;VALUE=DATE-TIME:20250406T190000
DTEND;TZID=Europe/Madrid;VALUE=DATE-TIME:20250406T200000
DTSTAMP;VALUE=DATE-TIME:20260421T011327Z
UID:b48b44f452a0e95b655ad2ac1979d0e1
CREATED;VALUE=DATE-TIME:20250406T000000Z
CATEGORIES:Teatre
LOCATION:Teatre Principal - C. Església, 45-47
ORGANIZER:Societat Coral l'Esperança i Regidoria de Cultura
COMMENT:Preu: 10&euro; anticipat i 12&euro; taquilla
DESCRIPTION:amb la Companyia Yepa
URL:https://arenysdemar.cat/document.php?id=47277
END:VEVENT
END:VCALENDAR