BEGIN:VCALENDAR
VERSION:2.0
PRODID:-//Plone.org//NONSGML plone.app.event//EN
X-WR-TIMEZONE:Europe/Madrid
BEGIN:VEVENT
SUMMARY:Presentació del llibre: Una guerra solidària: refugiats de la Guerra Civil al Maresme Central
DTSTART;TZID=Europe/Madrid;VALUE=DATE-TIME:20250313T193000
DTEND;TZID=Europe/Madrid;VALUE=DATE-TIME:20250313T203000
DTSTAMP;VALUE=DATE-TIME:20260425T234604Z
UID:35fdce2eae8080ac81f0871dc25307a6
CREATED;VALUE=DATE-TIME:20250313T000000Z
CATEGORIES:Literatura
LOCATION:Sala d'actes de l'Ateneu
ORGANIZER:Ateneu Arenyenc, Arxiu Comarcal del Maresme i el Consell Comarcal del Maresme
COMMENT:Preu: Gratuït
DESCRIPTION:Amb els autors, Glòria Campoy i Marc Mas i la Consellera Delegada de Cultura, Marta Rovira
URL:https://arenysdemar.cat/document.php?id=47322
END:VEVENT
END:VCALENDAR