BEGIN:VCALENDAR
VERSION:2.0
PRODID:-//Plone.org//NONSGML plone.app.event//EN
X-WR-TIMEZONE:Europe/Madrid
BEGIN:VEVENT
SUMMARY:Xerrada per a Famílies Conflictes entre infants, com transformarlos en Connexió
DTSTART;TZID=Europe/Madrid;VALUE=DATE-TIME:20250217T180000
DTEND;TZID=Europe/Madrid;VALUE=DATE-TIME:20250217T190000
DTSTAMP;VALUE=DATE-TIME:20260420T203854Z
UID:fa3753a6a32bba01f0be1c002a125280
CREATED;VALUE=DATE-TIME:20250217T000000Z
CATEGORIES:Conferència,Tallers
LOCATION:Sala Noble del C.C.Calisay - Riera Pare Fita, 31
ORGANIZER:Afa's dels centres Educatius d'infantil i primària i Ajuntament d'Arenys de Mar
COMMENT:Durada: De 18:00 a 20:00
URL:https://arenysdemar.cat/document.php?id=47392
END:VEVENT
END:VCALENDAR