BEGIN:VCALENDAR
VERSION:2.0
PRODID:-//Plone.org//NONSGML plone.app.event//EN
X-WR-TIMEZONE:Europe/Madrid
BEGIN:VEVENT
SUMMARY:Laboratori de lectura: Els Naturalistes
DTSTART;TZID=Europe/Madrid;VALUE=DATE-TIME:20250331T180000
DTEND;TZID=Europe/Madrid;VALUE=DATE-TIME:20250331T190000
DTSTAMP;VALUE=DATE-TIME:20260420T165309Z
UID:3fdce5142f4093138ef3b16d1e989418
CREATED;VALUE=DATE-TIME:20250331T000000Z
CATEGORIES:Literatura
LOCATION:Sala d'Actes de la Biblioteca - C. Bonaire, 3
ORGANIZER:Biblioteca - Regidoria de Cultura
COMMENT:Preu: Cal inscripció prèvia a la biblioteca, per telèfon (93.792.32.53) o correu electrònic (b.arenysma.pff@diba.cat). Places limitades
DESCRIPTION:a càrrec de l'Anna Danés. Activitat per a infants de 6 a 8 anys
URL:https://arenysdemar.cat/document.php?id=47409
END:VEVENT
END:VCALENDAR