BEGIN:VCALENDAR
VERSION:2.0
PRODID:-//Plone.org//NONSGML plone.app.event//EN
X-WR-TIMEZONE:Europe/Madrid
BEGIN:VEVENT
SUMMARY:Hora del conte: Hora especial dia de la Dona
DTSTART;TZID=Europe/Madrid;VALUE=DATE-TIME:20250306T180000
DTEND;TZID=Europe/Madrid;VALUE=DATE-TIME:20250306T190000
DTSTAMP;VALUE=DATE-TIME:20260422T010833Z
UID:87c94fb6d5be770e6d37eb981bebcc69
CREATED;VALUE=DATE-TIME:20250306T000000Z
CATEGORIES:Infantils
LOCATION:Sala d'Actes de la Biblioteca - C. Bonaire, 3
ORGANIZER:Biblioteca - Regidoria de Cultura
DESCRIPTION:a càrrec de Míriam Soler membre del Consell Municipal de les Dones. Activitat recomanada per a infants a partir de 4 anys
URL:https://arenysdemar.cat/document.php?id=47437
END:VEVENT
END:VCALENDAR