BEGIN:VCALENDAR
VERSION:2.0
PRODID:-//Plone.org//NONSGML plone.app.event//EN
X-WR-TIMEZONE:Europe/Madrid
BEGIN:VEVENT
SUMMARY:Connexions
DTSTART;TZID=Europe/Madrid;VALUE=DATE-TIME:20250222T190000
DTEND;TZID=Europe/Madrid;VALUE=DATE-TIME:20250222T200000
DTSTAMP;VALUE=DATE-TIME:20260423T104141Z
UID:7ba587f5e5b119180bcd04b0db3b3a94
CREATED;VALUE=DATE-TIME:20250222T000000Z
CATEGORIES:Dansa,Música,Teatre
LOCATION:Casal de Joventut Seràfica - Josep Baralt, s/n
ORGANIZER:Seràfics
COMMENT:Preu: 8 &euro;
Durada: 1h
DESCRIPTION:Espectacle de Dansa a càrrec de la Cia. Dancing Human
URL:https://arenysdemar.cat/document.php?id=47442
END:VEVENT
END:VCALENDAR