BEGIN:VCALENDAR
VERSION:2.0
PRODID:-//Plone.org//NONSGML plone.app.event//EN
X-WR-TIMEZONE:Europe/Madrid
BEGIN:VEVENT
SUMMARY:42è Aplec Sardanista d'Arenys de Mar
DTSTART;TZID=Europe/Madrid;VALUE=DATE-TIME:20250406T113000
DTEND;TZID=Europe/Madrid;VALUE=DATE-TIME:20250406T123000
DTSTAMP;VALUE=DATE-TIME:20260424T130627Z
UID:18b76749813f0e8eba619b08e4d78e41
CREATED;VALUE=DATE-TIME:20250406T000000Z
CATEGORIES:Dansa,Música
LOCATION:Espai de la Gruta de Lurdes
ORGANIZER:Ajuntament d'Arenys de Mar i Secció Sardanista de l'Ateneu Arenyenc
DESCRIPTION:amb les cobles Jovenívola de Sabadell i Contemporània
URL:https://arenysdemar.cat/document.php?id=47459
END:VEVENT
END:VCALENDAR