BEGIN:VCALENDAR
VERSION:2.0
PRODID:-//Plone.org//NONSGML plone.app.event//EN
X-WR-TIMEZONE:Europe/Madrid
BEGIN:VEVENT
SUMMARY:Inaguració de l'exposició Els sentits es fan llum. Obres de Domènec Olivé Busquets (1892-1959) 
DTSTART;TZID=Europe/Madrid;VALUE=DATE-TIME:20250307T000000
DTEND;TZID=Europe/Madrid;VALUE=DATE-TIME:20250307T010000
DTSTAMP;VALUE=DATE-TIME:20260425T160837Z
UID:4cd0c3957c2d8009fcb87f0f69c146a0
CREATED;VALUE=DATE-TIME:20250307T000000Z
CATEGORIES:Exposició
LOCATION:Sala Exposicions del C.C.Calisay - Riera del Pare Fita, 31
ORGANIZER:Regidoria de Cultura
DESCRIPTION:Podeu trobar més informació en aquest enllaç
URL:https://arenysdemar.cat/document.php?id=47580
END:VEVENT
END:VCALENDAR