BEGIN:VCALENDAR
VERSION:2.0
PRODID:-//Plone.org//NONSGML plone.app.event//EN
X-WR-TIMEZONE:Europe/Madrid
BEGIN:VEVENT
SUMMARY:Taller familiar: Benvinguda primavera!
DTSTART;TZID=Europe/Madrid;VALUE=DATE-TIME:20250429T180000
DTEND;TZID=Europe/Madrid;VALUE=DATE-TIME:20250429T190000
DTSTAMP;VALUE=DATE-TIME:20260424T043938Z
UID:ea7d6339247180d7f2f0db8ca3406b0c
CREATED;VALUE=DATE-TIME:20250429T000000Z
CATEGORIES:Infantils
LOCATION:Sala d'Actes de la Biblioteca - C. Bonaire, 3
ORGANIZER:Biblioteca - Regidoria de Cultura
COMMENT:Preu: Cal inscripció prèvia a la biblioteca, per telèfon (93.792.32.53) o correu electrònic (b.arenysma.pff@diba.cat). Places limitades
DESCRIPTION:a càrrec de l'Anna Danés. Activitat recomanada per a infants de 5 a 8 anys
URL:https://arenysdemar.cat/document.php?id=47601
END:VEVENT
END:VCALENDAR