BEGIN:VCALENDAR
VERSION:2.0
PRODID:-//Plone.org//NONSGML plone.app.event//EN
X-WR-TIMEZONE:Europe/Madrid
BEGIN:VEVENT
SUMMARY:Vetlla Pasqual
DTSTART;TZID=Europe/Madrid;VALUE=DATE-TIME:20250419T184500
DTEND;TZID=Europe/Madrid;VALUE=DATE-TIME:20250419T194500
DTSTAMP;VALUE=DATE-TIME:20260424T163324Z
UID:5d7dc43648274335399defafe80d0896
CREATED;VALUE=DATE-TIME:20250419T000000Z
CATEGORIES:Festa
LOCATION:Església de Santa Maria - Plaça de l'Església
ORGANIZER:Parròquia de Santa Maria
DESCRIPTION:Commemoració de la resurrecció de Jesucrist
URL:https://arenysdemar.cat/document.php?id=47630
END:VEVENT
END:VCALENDAR