BEGIN:VCALENDAR
VERSION:2.0
PRODID:-//Plone.org//NONSGML plone.app.event//EN
X-WR-TIMEZONE:Europe/Madrid
BEGIN:VEVENT
SUMMARY:Conferència de Fauna: Els lirons grisos del Montnegre
DTSTART;TZID=Europe/Madrid;VALUE=DATE-TIME:20250610T180000
DTEND;TZID=Europe/Madrid;VALUE=DATE-TIME:20250610T190000
DTSTAMP;VALUE=DATE-TIME:20260419T224401Z
UID:df3c21e3ed9c742f6355cb4826a0c456
CREATED;VALUE=DATE-TIME:20250610T000000Z
CATEGORIES:Conferència
LOCATION:Sala d'Actes Col·legi Presentació
ORGANIZER:Aula d'Extensió Universitària d'Arenys de Mar
DESCRIPTION:a càrrec de Lídia Freixas Mora, biòlega del Museu de Ciències Naturals de Granollers
URL:https://arenysdemar.cat/document.php?id=47643
END:VEVENT
END:VCALENDAR