BEGIN:VCALENDAR
VERSION:2.0
PRODID:-//Plone.org//NONSGML plone.app.event//EN
X-WR-TIMEZONE:Europe/Madrid
BEGIN:VEVENT
SUMMARY:Conferència de Ciència: Treballs de Recerca
DTSTART;TZID=Europe/Madrid;VALUE=DATE-TIME:20250408T180000
DTEND;TZID=Europe/Madrid;VALUE=DATE-TIME:20250408T190000
DTSTAMP;VALUE=DATE-TIME:20260419T204612Z
UID:44f7e7f6a7f6334aa9576df1b3b107b2
CREATED;VALUE=DATE-TIME:20250408T000000Z
CATEGORIES:Conferència
LOCATION:Sala d'Actes Col·legi Presentació
ORGANIZER:Aula d'Extensió Universitària d'Arenys de Mar
DESCRIPTION:a càrrec de Bertha Muriel Hermoso amb El futur dels prematurs i la placenta artificial, Jana Hernández Jiménez amb La influència de la mitologia en la societat actual i Maria del Mar Vilanova Ángel amb La resistència als antibiòtics
URL:https://arenysdemar.cat/document.php?id=47651
END:VEVENT
END:VCALENDAR