BEGIN:VCALENDAR
VERSION:2.0
PRODID:-//Plone.org//NONSGML plone.app.event//EN
X-WR-TIMEZONE:Europe/Madrid
BEGIN:VEVENT
SUMMARY:Conferència de Societat: Desxifrant 300 anys de Maçoneria
DTSTART;TZID=Europe/Madrid;VALUE=DATE-TIME:20250401T180000
DTEND;TZID=Europe/Madrid;VALUE=DATE-TIME:20250401T190000
DTSTAMP;VALUE=DATE-TIME:20260420T202942Z
UID:42561893cf9f63dbf1eda810bb076638
CREATED;VALUE=DATE-TIME:20250401T000000Z
CATEGORIES:Conferència
LOCATION:Sala d'Actes Col·legi Presentació
ORGANIZER:Aula d'Extensió Universitària d'Arenys de Mar
DESCRIPTION:a càrrec de David Revelles Soriano, periodista i guia cultural
URL:https://arenysdemar.cat/document.php?id=47652
END:VEVENT
END:VCALENDAR