BEGIN:VCALENDAR
VERSION:2.0
PRODID:-//Plone.org//NONSGML plone.app.event//EN
X-WR-TIMEZONE:Europe/Madrid
BEGIN:VEVENT
SUMMARY:Cicle sardanístic
DTSTART;TZID=Europe/Madrid;VALUE=DATE-TIME:20250807T190000
DTEND;TZID=Europe/Madrid;VALUE=DATE-TIME:20250807T200000
DTSTAMP;VALUE=DATE-TIME:20260424T114258Z
UID:8fed4d3bbe0036ccb0fe53c8e1712e6e
CREATED;VALUE=DATE-TIME:20250807T000000Z
CATEGORIES:Dansa
LOCATION:Plaça de l'Església - Plaça de l'Església
ORGANIZER:Regidoria de Cultura i secció sardanista de l'Ateneu Arenyenc
DESCRIPTION:a càrrec de la Cobla La Moreneta
URL:https://arenysdemar.cat/document.php?id=47742
END:VEVENT
END:VCALENDAR