BEGIN:VCALENDAR
VERSION:2.0
PRODID:-//Plone.org//NONSGML plone.app.event//EN
X-WR-TIMEZONE:Europe/Madrid
BEGIN:VEVENT
SUMMARY:Club de lectura en anglès
DTSTART;TZID=Europe/Madrid;VALUE=DATE-TIME:20250528T190000
DTEND;TZID=Europe/Madrid;VALUE=DATE-TIME:20250528T200000
DTSTAMP;VALUE=DATE-TIME:20260423T214932Z
UID:653238219e099af3ad377753f2e45fff
CREATED;VALUE=DATE-TIME:20250528T000000Z
CATEGORIES:Cursos
LOCATION:Sala d'Actes de la Biblioteca - C. Bonaire, 3
ORGANIZER:Biblioteca - Regidoria de Cultura
DESCRIPTION:a càrrec de Leonora de Groot Bogaarts
URL:https://arenysdemar.cat/document.php?id=47788
END:VEVENT
END:VCALENDAR