BEGIN:VCALENDAR
VERSION:2.0
PRODID:-//Plone.org//NONSGML plone.app.event//EN
X-WR-TIMEZONE:Europe/Madrid
BEGIN:VEVENT
SUMMARY:Excursió amb festa
DTSTART;TZID=Europe/Madrid;VALUE=DATE-TIME:20250521T000000
DTEND;TZID=Europe/Madrid;VALUE=DATE-TIME:20250521T010000
DTSTAMP;VALUE=DATE-TIME:20260424T195732Z
UID:3e57a620024891aaa9fee2f68dc80408
CREATED;VALUE=DATE-TIME:20250521T000000Z
CATEGORIES:Festa
LOCATION:Sortida de la Riera davant del CC Calisay
ORGANIZER:Vocalia de Jubilats
COMMENT:Preu: 270&euro; els socis i 280&euro; els no socis
Durada: Fins al dia 23 de maig
DESCRIPTION:Viatge a la Vall d'Aran
URL:https://arenysdemar.cat/document.php?id=47826
END:VEVENT
END:VCALENDAR