BEGIN:VCALENDAR
VERSION:2.0
PRODID:-//Plone.org//NONSGML plone.app.event//EN
X-WR-TIMEZONE:Europe/Madrid
BEGIN:VEVENT
SUMMARY:Netegem els rials d'Arenys!
DTSTART;TZID=Europe/Madrid;VALUE=DATE-TIME:20250511T103000
DTEND;TZID=Europe/Madrid;VALUE=DATE-TIME:20250511T113000
DTSTAMP;VALUE=DATE-TIME:20260426T051410Z
UID:0c56a0f3da5beb6c692e4310e06023ca
CREATED;VALUE=DATE-TIME:20250511T000000Z
CATEGORIES:Medi ambient
LOCATION:Davant de l'Escola Joan Maragall
ORGANIZER:Plataforma en Defensa del Territori Arenyenc
COMMENT:Preu: Gratuït
Durada: Fins a les 13h, aproximadament
DESCRIPTION:Neteja de residus i espècies invasores al Rial del Sapí i al Rial de Sa Clavella
URL:https://arenysdemar.cat/document.php?id=47856
END:VEVENT
END:VCALENDAR