BEGIN:VCALENDAR
VERSION:2.0
PRODID:-//Plone.org//NONSGML plone.app.event//EN
X-WR-TIMEZONE:Europe/Madrid
BEGIN:VEVENT
SUMMARY:Lagunas de Ruidera
DTSTART;TZID=Europe/Madrid;VALUE=DATE-TIME:20250609T060000
DTEND;TZID=Europe/Madrid;VALUE=DATE-TIME:20250609T070000
DTSTAMP;VALUE=DATE-TIME:20260421T011010Z
UID:c973edf5b609bf82d85eda734fba0bcd
CREATED;VALUE=DATE-TIME:20250609T000000Z
CATEGORIES:Visita guiada
LOCATION:Riera, davant del C.C. Calisay
ORGANIZER:L´Esplai de la Gent Gran d´Arenys de Mar
COMMENT:Preu: 345&euro; Soci /360&euro; No Soci ( Suplement Habitació Individual 20&euro;/nit/persona)
Durada: dies 9,10,11,12 i 13 de juny de 2025
DESCRIPTION:Excursió de cinc dies per la Manxa
URL:https://arenysdemar.cat/document.php?id=48004
END:VEVENT
END:VCALENDAR