BEGIN:VCALENDAR
VERSION:2.0
PRODID:-//Plone.org//NONSGML plone.app.event//EN
X-WR-TIMEZONE:Europe/Madrid
BEGIN:VEVENT
SUMMARY:Fira del mar i els vins salins: Mos
DTSTART;TZID=Europe/Madrid;VALUE=DATE-TIME:20250607T120000
DTEND;TZID=Europe/Madrid;VALUE=DATE-TIME:20250607T130000
DTSTAMP;VALUE=DATE-TIME:20260423T165145Z
UID:228ef13a3c1f0457c6573993496f0299
CREATED;VALUE=DATE-TIME:20250607T000000Z
CATEGORIES:Mostra,Medi ambient
LOCATION:Llotja del peix blau del Port d'Arenys
ORGANIZER:La Copanegra i El Moll d'Arenys
COMMENT:Durada: fins a les 20h
URL:https://arenysdemar.cat/document.php?id=48033
END:VEVENT
END:VCALENDAR