BEGIN:VCALENDAR
VERSION:2.0
PRODID:-//Plone.org//NONSGML plone.app.event//EN
X-WR-TIMEZONE:Europe/Madrid
BEGIN:VEVENT
SUMMARY:Ball de Festa Major
DTSTART;TZID=Europe/Madrid;VALUE=DATE-TIME:20250704T233000
DTEND;TZID=Europe/Madrid;VALUE=DATE-TIME:20250705T003000
DTSTAMP;VALUE=DATE-TIME:20260424T195714Z
UID:4708fcb318c616cbd546a102683ae3c1
CREATED;VALUE=DATE-TIME:20250704T000000Z
CATEGORIES:Festa
LOCATION:Riera zona nova coberta - Riera zona nova coberta
ORGANIZER:Regidoria de Festes
DESCRIPTION:amb Los 80 Principales
URL:https://arenysdemar.cat/document.php?id=48100
END:VEVENT
END:VCALENDAR