BEGIN:VCALENDAR
VERSION:2.0
PRODID:-//Plone.org//NONSGML plone.app.event//EN
X-WR-TIMEZONE:Europe/Madrid
BEGIN:VEVENT
SUMMARY:Recollida de xumets i cercavila de gegants amb uns convidats d'honor.
DTSTART;TZID=Europe/Madrid;VALUE=DATE-TIME:20250709T173000
DTEND;TZID=Europe/Madrid;VALUE=DATE-TIME:20250709T183000
DTSTAMP;VALUE=DATE-TIME:20260424T233601Z
UID:53dc546c2e9631bbbefe8d81699eff25
CREATED;VALUE=DATE-TIME:20250709T000000Z
CATEGORIES:Festa
LOCATION:Sortida de la Plaça de l'Església
ORGANIZER:Regidoria de Festes i Associació de Geganters
URL:https://arenysdemar.cat/document.php?id=48117
END:VEVENT
END:VCALENDAR