BEGIN:VCALENDAR
VERSION:2.0
PRODID:-//Plone.org//NONSGML plone.app.event//EN
X-WR-TIMEZONE:Europe/Madrid
BEGIN:VEVENT
SUMMARY:Tarda Barraques 2025
DTSTART;TZID=Europe/Madrid;VALUE=DATE-TIME:20250705T170000
DTEND;TZID=Europe/Madrid;VALUE=DATE-TIME:20250705T180000
DTSTAMP;VALUE=DATE-TIME:20260424T213743Z
UID:35d526c0091d863d4052178649c69f55
CREATED;VALUE=DATE-TIME:20250705T000000Z
CATEGORIES:Música
LOCATION:Platja Picòrdia
ORGANIZER:Regidoria de Joventut amb el suport de Cau Flos i Calcat, Associació Pubillatge i Patronat de Sant Roc
COMMENT:Preu: Gratuït
Durada: Fins a les 20 h
DESCRIPTION:amb els P.D. Pujol
URL:https://arenysdemar.cat/document.php?id=48142
END:VEVENT
END:VCALENDAR