BEGIN:VCALENDAR
VERSION:2.0
PRODID:-//Plone.org//NONSGML plone.app.event//EN
X-WR-TIMEZONE:Europe/Madrid
BEGIN:VEVENT
SUMMARY:Repicada general de campanes anunciant la solemnitat de Sant Zenon
DTSTART;TZID=Europe/Madrid;VALUE=DATE-TIME:20250708T130000
DTEND;TZID=Europe/Madrid;VALUE=DATE-TIME:20250708T140000
DTSTAMP;VALUE=DATE-TIME:20260424T093810Z
UID:295e2226635179f34fc8901aa3613938
CREATED;VALUE=DATE-TIME:20250708T000000Z
CATEGORIES:Festa
LOCATION:Església de Santa Maria - Plaça de l'Església
ORGANIZER:Parròquia de Santa Maria
URL:https://arenysdemar.cat/document.php?id=48155
END:VEVENT
END:VCALENDAR