BEGIN:VCALENDAR
VERSION:2.0
PRODID:-//Plone.org//NONSGML plone.app.event//EN
X-WR-TIMEZONE:Europe/Madrid
BEGIN:VEVENT
SUMMARY:Visita guiada al retaule barroc de Pau Costa
DTSTART;TZID=Europe/Madrid;VALUE=DATE-TIME:20250726T110000
DTEND;TZID=Europe/Madrid;VALUE=DATE-TIME:20250726T120000
DTSTAMP;VALUE=DATE-TIME:20260425T160909Z
UID:2b1f100cebb3c4a337b99d72c2b04d20
CREATED;VALUE=DATE-TIME:20250726T000000Z
CATEGORIES:Visita guiada
LOCATION:Església de Santa Maria - Plaça de l'Església
ORGANIZER:Parròquia de Santa Maria - Amics del Retaule
URL:https://arenysdemar.cat/document.php?id=48161
END:VEVENT
END:VCALENDAR