BEGIN:VCALENDAR
VERSION:2.0
PRODID:-//Plone.org//NONSGML plone.app.event//EN
X-WR-TIMEZONE:Europe/Madrid
BEGIN:VEVENT
SUMMARY:Visita guiada al retaule barroc de Pau Costa
DTSTART;TZID=Europe/Madrid;VALUE=DATE-TIME:20250823T110000
DTEND;TZID=Europe/Madrid;VALUE=DATE-TIME:20250823T120000
DTSTAMP;VALUE=DATE-TIME:20260424T163003Z
UID:427a537967a9fdcea4f7be3c02f85073
CREATED;VALUE=DATE-TIME:20250823T000000Z
CATEGORIES:Visita guiada
LOCATION:Església de Santa Maria - Plaça de l'Església
ORGANIZER:Parròquia de Santa Maria - Amics del Retaule
URL:https://arenysdemar.cat/document.php?id=48164
END:VEVENT
END:VCALENDAR