BEGIN:VCALENDAR
VERSION:2.0
PRODID:-//Plone.org//NONSGML plone.app.event//EN
X-WR-TIMEZONE:Europe/Madrid
BEGIN:VEVENT
SUMMARY:Rumba catalana
DTSTART;TZID=Europe/Madrid;VALUE=DATE-TIME:20250705T230000
DTEND;TZID=Europe/Madrid;VALUE=DATE-TIME:20250706T000000
DTSTAMP;VALUE=DATE-TIME:20260424T145137Z
UID:bf6af323719e8946c9daab761fa7f1f2
CREATED;VALUE=DATE-TIME:20250705T000000Z
CATEGORIES:Festa,Música
LOCATION:Riera zona nova coberta - Riera zona nova coberta
ORGANIZER:Regidoria de Festes
DESCRIPTION:a càrrec de Sabor de Gracia
URL:https://arenysdemar.cat/document.php?id=48175
END:VEVENT
END:VCALENDAR