BEGIN:VCALENDAR
VERSION:2.0
PRODID:-//Plone.org//NONSGML plone.app.event//EN
X-WR-TIMEZONE:Europe/Madrid
BEGIN:VEVENT
SUMMARY:La Gimcana Gegant
DTSTART;TZID=Europe/Madrid;VALUE=DATE-TIME:20250703T000000
DTEND;TZID=Europe/Madrid;VALUE=DATE-TIME:20250703T010000
DTSTAMP;VALUE=DATE-TIME:20260424T163205Z
UID:777d65acd0e547f3e0d82488cb335cf7
CREATED;VALUE=DATE-TIME:20250703T000000Z
CATEGORIES:Exposició,Festa
ORGANIZER:Associació de Geganters d'Arenys de Mar
COMMENT:Durada: Tot el mes de juliol (del dia 3 al 27)
DESCRIPTION:Posa a prova el teu enginy i recorre Arenys de Mar superant reptes i enigmes per aconseguir sorpreses gegants!
URL:https://arenysdemar.cat/document.php?id=48188
END:VEVENT
END:VCALENDAR