BEGIN:VCALENDAR
VERSION:2.0
PRODID:-//Plone.org//NONSGML plone.app.event//EN
X-WR-TIMEZONE:Europe/Madrid
BEGIN:VEVENT
SUMMARY:Mercat rumbero  (HI HA HAGUT UN CANVI DE DIES)
DTSTART;TZID=Europe/Madrid;VALUE=DATE-TIME:20250705T170000
DTEND;TZID=Europe/Madrid;VALUE=DATE-TIME:20250705T180000
DTSTAMP;VALUE=DATE-TIME:20260424T113339Z
UID:db8abafbeb92862fd83d312a709d499c
CREATED;VALUE=DATE-TIME:20250705T000000Z
CATEGORIES:Mostra
LOCATION:Vorera de l'Arxiprest Rigau fins el parc de l'Asil Torrent
ORGANIZER:Ajuntament d'Arenys de Mar
COMMENT:Durada: Fins a les 23h. També el dia 6 de juliol
DESCRIPTION:Productes de KM0 i d'artesania
URL:https://arenysdemar.cat/document.php?id=48222
END:VEVENT
END:VCALENDAR