BEGIN:VCALENDAR
VERSION:2.0
PRODID:-//Plone.org//NONSGML plone.app.event//EN
X-WR-TIMEZONE:Europe/Madrid
BEGIN:VEVENT
SUMMARY:Presentació d'audiogimcanes: "Quan Arenys és l'escenari i les històries, l'excusa: El Tresor d'en Puntafí i El Secret del Gran Calamar"
DTSTART;TZID=Europe/Madrid;VALUE=DATE-TIME:20250812T190000
DTEND;TZID=Europe/Madrid;VALUE=DATE-TIME:20250812T200000
DTSTAMP;VALUE=DATE-TIME:20260425T125057Z
UID:8d696f24731445e6fb64962c2e848101
CREATED;VALUE=DATE-TIME:20250812T000000Z
CATEGORIES:Literatura
LOCATION:Biblioplatja - Platja de la Picòrdia
ORGANIZER:Biblioteca - Regidoria de Cultura - Regidoria de Turisme
DESCRIPTION:a càrrec de Marta Catalan
URL:https://arenysdemar.cat/document.php?id=48231
END:VEVENT
END:VCALENDAR