BEGIN:VCALENDAR
VERSION:2.0
PRODID:-//Plone.org//NONSGML plone.app.event//EN
X-WR-TIMEZONE:Europe/Madrid
BEGIN:VEVENT
SUMMARY:Taller creatiu: "Una mar d'estels"
DTSTART;TZID=Europe/Madrid;VALUE=DATE-TIME:20250819T183000
DTEND;TZID=Europe/Madrid;VALUE=DATE-TIME:20250819T193000
DTSTAMP;VALUE=DATE-TIME:20260424T144552Z
UID:b2de2a4ccc7438e5848d429efc40092a
CREATED;VALUE=DATE-TIME:20250819T000000Z
CATEGORIES:Infantils
LOCATION:Biblioplatja - Platja de la Picòrdia
ORGANIZER:Biblioteca - Regidoria de Cultura
DESCRIPTION:a càrrec de Marta Flor. Activitat recomanada per a infants  a partir de 4 anys.
URL:https://arenysdemar.cat/document.php?id=48236
END:VEVENT
END:VCALENDAR