BEGIN:VCALENDAR
VERSION:2.0
PRODID:-//Plone.org//NONSGML plone.app.event//EN
X-WR-TIMEZONE:Europe/Madrid
BEGIN:VEVENT
SUMMARY:Contacontes: Rumors de mar
DTSTART;TZID=Europe/Madrid;VALUE=DATE-TIME:20250615T113000
DTEND;TZID=Europe/Madrid;VALUE=DATE-TIME:20250615T123000
DTSTAMP;VALUE=DATE-TIME:20260425T124231Z
UID:a5cc875bc4f9b9946caa01865f2eb6f7
CREATED;VALUE=DATE-TIME:20250615T000000Z
CATEGORIES:Literatura,Infantils
LOCATION:Plaça de l'Església - Plaça de l'Església
DESCRIPTION:Arenys de Mar Vila del Llibre
URL:https://arenysdemar.cat/document.php?id=48266
END:VEVENT
END:VCALENDAR