BEGIN:VCALENDAR
VERSION:2.0
PRODID:-//Plone.org//NONSGML plone.app.event//EN
X-WR-TIMEZONE:Europe/Madrid
BEGIN:VEVENT
SUMMARY:Festa del Carme  ACTIVITAT POSPOSADA
DTSTART;TZID=Europe/Madrid;VALUE=DATE-TIME:20250712T193000
DTEND;TZID=Europe/Madrid;VALUE=DATE-TIME:20250712T203000
DTSTAMP;VALUE=DATE-TIME:20260424T130638Z
UID:0f0a202c5a0003b86cc425f91ba57e99
CREATED;VALUE=DATE-TIME:20250712T000000Z
CATEGORIES:Festa
LOCATION:Port d'Arenys de Mar - Zona de la confraria de pescadors
ORGANIZER:Ass. Casa del Mar, Confraria de Sant Elm, Parròquia de Santa Maria d'Arenys, Seràfics, Ajuntament d'Arenys de Mar, Club de Pesca Mar-Sport, Club Nàutic d'Arenys de Mar
DESCRIPTION:Benedicció i pregària a la Verge del Carme, processó de barques, sardinada popular i teatre
URL:https://arenysdemar.cat/document.php?id=48319
END:VEVENT
END:VCALENDAR