BEGIN:VCALENDAR
VERSION:2.0
PRODID:-//Plone.org//NONSGML plone.app.event//EN
X-WR-TIMEZONE:Europe/Madrid
BEGIN:VEVENT
SUMMARY:Els ocells i la nostra cultura
DTSTART;TZID=Europe/Madrid;VALUE=DATE-TIME:20250725T190000
DTEND;TZID=Europe/Madrid;VALUE=DATE-TIME:20250725T200000
DTSTAMP;VALUE=DATE-TIME:20260425T033307Z
UID:1edc5600515d99bf79cf3f0f3f67db0d
CREATED;VALUE=DATE-TIME:20250725T000000Z
CATEGORIES:Conferència,Medi ambient
LOCATION:Biblioplatja - Platja de la Picòrdia
ORGANIZER:Àrea de Medi Ambient
COMMENT:Durada: 1,5 hores
DESCRIPTION:Cicle de Natura de la Biblioplatja 2025
URL:https://arenysdemar.cat/document.php?id=48396
END:VEVENT
END:VCALENDAR