BEGIN:VCALENDAR
VERSION:2.0
PRODID:-//Plone.org//NONSGML plone.app.event//EN
X-WR-TIMEZONE:Europe/Madrid
BEGIN:VEVENT
SUMMARY:Presentació VI disc músiques Mercè Dansa 2025.
DTSTART;TZID=Europe/Madrid;VALUE=DATE-TIME:20250809T190000
DTEND;TZID=Europe/Madrid;VALUE=DATE-TIME:20250809T200000
DTSTAMP;VALUE=DATE-TIME:20260424T195833Z
UID:a7f6620772b279418210c69b3cdbb244
CREATED;VALUE=DATE-TIME:20250809T000000Z
CATEGORIES:Dansa,Música
LOCATION:Sala Josep Maria Arnau del C.C.Calisay - Riera del Pare Fita, 31
ORGANIZER:El Grup de la Dansa/ Patronat de Sant Roc / Regidoria de Cultura
COMMENT:Durada: 2 h
DESCRIPTION:A càrrec de Daniel Trullols president de l'Esbart Català de Dansaires i d'en Joan Gómez responsable musical del Mercè Dansa. Inclou la Dansa d'Arenys de Mar 
URL:https://arenysdemar.cat/document.php?id=48402
END:VEVENT
END:VCALENDAR