BEGIN:VCALENDAR
VERSION:2.0
PRODID:-//Plone.org//NONSGML plone.app.event//EN
X-WR-TIMEZONE:Europe/Madrid
BEGIN:VEVENT
SUMMARY:Una mirada al passat, la història de les captadores
DTSTART;TZID=Europe/Madrid;VALUE=DATE-TIME:20250801T190000
DTEND;TZID=Europe/Madrid;VALUE=DATE-TIME:20250801T200000
DTSTAMP;VALUE=DATE-TIME:20260424T144917Z
UID:61670598c2fc59f9a234494c27ad88f4
CREATED;VALUE=DATE-TIME:20250801T000000Z
CATEGORIES:Exposició
LOCATION:Museu Marès de les Puntes - Església, 41
ORGANIZER:Ajuntament d'Arenys de Mar, Museu d'Arenys de Mar i Patronat de Sant Roc
COMMENT:Durada: De dimarts a divendres de 10 a 13.30h, dissabtes de 10 a 13h, diumenges i festius d'11 a 13h
URL:https://arenysdemar.cat/document.php?id=48405
END:VEVENT
END:VCALENDAR