BEGIN:VCALENDAR
VERSION:2.0
PRODID:-//Plone.org//NONSGML plone.app.event//EN
X-WR-TIMEZONE:Europe/Madrid
BEGIN:VEVENT
SUMMARY:Cinexic "Phantom boy"
DTSTART;TZID=Europe/Madrid;VALUE=DATE-TIME:20251116T180000
DTEND;TZID=Europe/Madrid;VALUE=DATE-TIME:20251116T190000
DTSTAMP;VALUE=DATE-TIME:20260424T215857Z
UID:c71c7b921dd8028a19c69730f7473be4
CREATED;VALUE=DATE-TIME:20251116T000000Z
CATEGORIES:Cinema,Infantils
LOCATION:Casal de Joventut Seràfica - Josep Baralt, s/n
ORGANIZER:Omnium Cultural, Ajuntament d'Arenys de Mar i Seràfics
COMMENT:Preu: 3&euro;
Durada: 1h
URL:https://arenysdemar.cat/document.php?id=48426
END:VEVENT
END:VCALENDAR