BEGIN:VCALENDAR
VERSION:2.0
PRODID:-//Plone.org//NONSGML plone.app.event//EN
X-WR-TIMEZONE:Europe/Madrid
BEGIN:VEVENT
SUMMARY:Cicle de Natura: Naturalitza´t Arenys: projecte d´adaptació al canvi climàtic
DTSTART;TZID=Europe/Madrid;VALUE=DATE-TIME:20250801T190000
DTEND;TZID=Europe/Madrid;VALUE=DATE-TIME:20250801T200000
DTSTAMP;VALUE=DATE-TIME:20260424T130510Z
UID:a54accd7757e28d8d11783b389bc38b9
CREATED;VALUE=DATE-TIME:20250801T000000Z
CATEGORIES:Conferència,Medi ambient
LOCATION:Biblioplatja - Platja de la Picòrdia
ORGANIZER:Biblioteca - Regidoria de Cultura i Regidoria de Medi Ambient
COMMENT:Durada: 1 hora + preguntes
URL:https://arenysdemar.cat/document.php?id=48452
END:VEVENT
END:VCALENDAR