BEGIN:VCALENDAR
VERSION:2.0
PRODID:-//Plone.org//NONSGML plone.app.event//EN
X-WR-TIMEZONE:Europe/Madrid
BEGIN:VEVENT
SUMMARY:Cadires a la Fesca
DTSTART;TZID=Europe/Madrid;VALUE=DATE-TIME:20250906T193000
DTEND;TZID=Europe/Madrid;VALUE=DATE-TIME:20250906T203000
DTSTAMP;VALUE=DATE-TIME:20260421T171340Z
UID:e45898c8b170ba5233f6d115d024e61b
CREATED;VALUE=DATE-TIME:20250906T000000Z
CATEGORIES:Teatre
LOCATION:Plaça de la Revolució
ORGANIZER:ESBOteatre i Regidoria de Cultura
DESCRIPTION:amb ESBOteatre
URL:https://arenysdemar.cat/document.php?id=48482
END:VEVENT
END:VCALENDAR