BEGIN:VCALENDAR
VERSION:2.0
PRODID:-//Plone.org//NONSGML plone.app.event//EN
X-WR-TIMEZONE:Europe/Madrid
BEGIN:VEVENT
SUMMARY:Inauguració Exposició Pintures
DTSTART;TZID=Europe/Madrid;VALUE=DATE-TIME:20251003T190000
DTEND;TZID=Europe/Madrid;VALUE=DATE-TIME:20251003T200000
DTSTAMP;VALUE=DATE-TIME:20260424T221923Z
UID:5e3c9478e04d5f0707966e62102d82b3
CREATED;VALUE=DATE-TIME:20251003T000000Z
CATEGORIES:Exposició
LOCATION:Ateneu Arenyenc - Anselm Clavé, 22
ORGANIZER:Secció de Cultura de l'Ateneu
COMMENT:Durada: Fins el 6 de novembre
DESCRIPTION:"Fragmentos de lo vivido" de Marisol Gaya
URL:https://arenysdemar.cat/document.php?id=48628
END:VEVENT
END:VCALENDAR