BEGIN:VCALENDAR
VERSION:2.0
PRODID:-//Plone.org//NONSGML plone.app.event//EN
X-WR-TIMEZONE:Europe/Madrid
BEGIN:VEVENT
SUMMARY:Inauguració Institucional del Curs
DTSTART;TZID=Europe/Madrid;VALUE=DATE-TIME:20251007T000000
DTEND;TZID=Europe/Madrid;VALUE=DATE-TIME:20251007T010000
DTSTAMP;VALUE=DATE-TIME:20260421T031554Z
UID:ae73aa17acbb5025c9d5febe8fd6b89e
CREATED;VALUE=DATE-TIME:20251007T000000Z
CATEGORIES:Música
LOCATION:Teatre Principal - C. Església, 45-47
ORGANIZER:Aula d'Extensió Universitària d'Arenys de Mar
DESCRIPTION:Actuació de Memi Sillah Duo. Jazz, soul i música jamaicana
URL:https://arenysdemar.cat/document.php?id=48670
END:VEVENT
END:VCALENDAR