BEGIN:VCALENDAR
VERSION:2.0
PRODID:-//Plone.org//NONSGML plone.app.event//EN
X-WR-TIMEZONE:Europe/Madrid
BEGIN:VEVENT
SUMMARY:Exposició: Arenys de Mar recorda Lluís Ferran de Pol i Esyllt T. Lawrence en el 30è aniversari de la seva mort
DTSTART;TZID=Europe/Madrid;VALUE=DATE-TIME:20251013T000000
DTEND;TZID=Europe/Madrid;VALUE=DATE-TIME:20251013T010000
DTSTAMP;VALUE=DATE-TIME:20260424T144622Z
UID:6704bde88b64e179e35438fa4f9080cf
CREATED;VALUE=DATE-TIME:20251013T000000Z
CATEGORIES:Exposició
LOCATION:Sala Bótes del CC Calisay - Riera del Pare Fita, 31
ORGANIZER:Biblioteca - Regidoria de Cultura
COMMENT:Durada: Fins al 27 d'octubre de 2025
URL:https://arenysdemar.cat/document.php?id=48703
END:VEVENT
END:VCALENDAR