BEGIN:VCALENDAR
VERSION:2.0
PRODID:-//Plone.org//NONSGML plone.app.event//EN
X-WR-TIMEZONE:Europe/Madrid
BEGIN:VEVENT
SUMMARY:Excursió amb visita guiada
DTSTART;TZID=Europe/Madrid;VALUE=DATE-TIME:20251119T080000
DTEND;TZID=Europe/Madrid;VALUE=DATE-TIME:20251119T090000
DTSTAMP;VALUE=DATE-TIME:20260424T002019Z
UID:74c49d6e9fa38b8c4961b512aefc1010
CREATED;VALUE=DATE-TIME:20251119T000000Z
CATEGORIES:Visita guiada
LOCATION:Sortida de la Riera davant del CC Calisay
ORGANIZER:Vocalia de jubilats
COMMENT:Preu: Socis 65&euro; i no socis 70&euro;
Durada: Tot el dia
DESCRIPTION:Centre d'Exposició dels Càtars i l'època medieval a Bagà
URL:https://arenysdemar.cat/document.php?id=48726
END:VEVENT
END:VCALENDAR