BEGIN:VCALENDAR
VERSION:2.0
PRODID:-//Plone.org//NONSGML plone.app.event//EN
X-WR-TIMEZONE:Europe/Madrid
BEGIN:VEVENT
SUMMARY:Hora del conte: Menudaines
DTSTART;TZID=Europe/Madrid;VALUE=DATE-TIME:20251113T180000
DTEND;TZID=Europe/Madrid;VALUE=DATE-TIME:20251113T190000
DTSTAMP;VALUE=DATE-TIME:20260423T235524Z
UID:168ce83b9a6c7f91f42b90f91f3796b1
CREATED;VALUE=DATE-TIME:20251113T000000Z
CATEGORIES:Infantils
LOCATION:Sala d'Actes de la Biblioteca - C. Bonaire, 3
ORGANIZER:Biblioteca - Regidoria de Cultura
DESCRIPTION:a càrrec de Carmina Rabassedes. Activitat recomanada per infants d'1 a 3 anys
URL:https://arenysdemar.cat/document.php?id=48732
END:VEVENT
END:VCALENDAR