BEGIN:VCALENDAR
VERSION:2.0
PRODID:-//Plone.org//NONSGML plone.app.event//EN
X-WR-TIMEZONE:Europe/Madrid
BEGIN:VEVENT
SUMMARY:Converses a la carta en francès: Un brin de causette
DTSTART;TZID=Europe/Madrid;VALUE=DATE-TIME:20251125T163000
DTEND;TZID=Europe/Madrid;VALUE=DATE-TIME:20251125T173000
DTSTAMP;VALUE=DATE-TIME:20260425T124256Z
UID:68ec0e60f48bcd530487d42101eca3b2
CREATED;VALUE=DATE-TIME:20251125T000000Z
CATEGORIES:Cursos
LOCATION:Sala d'Actes de la Biblioteca - C. Bonaire, 3
ORGANIZER:Biblioteca - Regidoria de Cultura
DESCRIPTION:a càrrec de Carme Porcel
URL:https://arenysdemar.cat/document.php?id=48739
END:VEVENT
END:VCALENDAR